BEGIN:VCALENDAR
VERSION:2.0
PRODID:-//Plone.org//NONSGML plone.app.event//EN
X-WR-TIMEZONE:Europe/Madrid
BEGIN:VEVENT
SUMMARY:Cicle de Curtmetratges - Dirigit per dones
DTSTART;TZID=Europe/Madrid:20260314T180000
DTEND;TZID=Europe/Madrid:20260314T200000
DTSTAMP:20260419T183053Z
UID:935f3baa852b4ce4acc5bb4367097fa8@www.stasusanna.cat
CREATED:20260305T091141Z
DESCRIPTION:Una oportunitat per gaudir del cinema amb mirada femenina
LAST-MODIFIED:20260305T091144Z
URL:https://www.stasusanna.cat/ca/actualitat/agenda/cicle-de-curtmetratges
 -dirigit-per-dones
END:VEVENT
BEGIN:VTIMEZONE
TZID:Europe/Madrid
X-LIC-LOCATION:Europe/Madrid
BEGIN:STANDARD
DTSTART:20251026T020000
TZNAME:CET
TZOFFSETFROM:+0200
TZOFFSETTO:+0100
END:STANDARD
END:VTIMEZONE
END:VCALENDAR
